Workbook

Sheet 2026.9.16
A1: 朔州市重要民生商品价格监测报表
A2: 填报单位：朔州市新兴产业发展促进中心 | F2: 填报日期：2026年9月16日
A3: 序号 | B3: 监测品种 | C3: 规格 | D3: 单位 | E3: 本期价格 | F3: 环比（%） | G3: 备注
A4: 1 | B4: 面粉 | C4: 特一 | D4: 元/500克 | E4: 2.63 | F4: =(E4-'2026.9.9'!E4)/'2026.9.9'!E4*100 -> 0
A5: 2 | B5: 粳米 | C5: 二级 | D5: 元/500克 | E5: 2.78 | F5: =(E5-'2026.9.9'!E5)/'2026.9.9'!E5*100 -> 0
A6: 3 | B6: 食盐 | C6: 精制含碘盐 | D6: 元/500克 | E6: 2.5 | F6: =(E6-'2026.9.9'!E6)/'2026.9.9'!E6*100 -> 0
A7: 4 | B7: 白砂糖 | C7: 袋装 | D7: 元/500克 | E7: 6.82 | F7: =(E7-'2026.9.9'!E7)/'2026.9.9'!E7*100 -> 0
A8: 5 | B8: 牛奶 | C8: 纯牛奶盒装250ml | D8: 元/盒 | E8: 3.44 | F8: =(E8-'2026.9.9'!E8)/'2026.9.9'!E8*100 -> 0
A9: 6 | B9: 花生油 | C9: 一级桶装 | D9: 元/5升 | E9: 163.78 | F9: =(E9-'2026.9.9'!E9)/'2026.9.9'!E9*100 -> 0
A10: 7 | B10: 大豆油 | C10: 桶装一级浸出 | D10: 元/5升 | E10: 73.6 | F10: =(E10-'2026.9.9'!E10)/'2026.9.9'!E10*100 -> 0
A11: 8 | B11: 生猪 | C11: 养殖场出厂价 | D11: 元/500克 | E11: 6.1 | F11: =(E11-'2026.9.9'!E11)/'2026.9.9'!E11*100 -> 0
A12: 9 | B12: 玉米 | C12: 批发市场成交价 | D12: 元/500克 | E12: 1.13 | F12: =(E12-'2026.9.9'!E12)/'2026.9.9'!E12*100 -> 0
A13: 10 | B13: 猪粮比价 | E13: 5.42 | F13: =(E13-'2026.9.9'!E13)/'2026.9.9'!E13*100 -> 0
A14: 11 | B14: 猪肉 | C14: 精瘦肉零售价 | D14: 元/500克 | E14: 11.25 | F14: =(E14-'2026.9.9'!E14)/'2026.9.9'!E14*100 -> 0
A15: 12 | B15: 猪肉 | C15: 肋条肉零售价 | D15: 元/500克 | E15: 10.63 | F15: =(E15-'2026.9.9'!E15)/'2026.9.9'!E15*100 -> 0
A16: 13 | B16: 牛肉 | C16: 腱子肉零售价 | D16: 元/500克 | E16: 34.67 | F16: =(E16-'2026.9.9'!E16)/'2026.9.9'!E16*100 -> 0
A17: 14 | B17: 羊肉 | C17: 新鲜去骨零售价 | D17: 元/500克 | E17: 32.83 | F17: =(E17-'2026.9.9'!E17)/'2026.9.9'!E17*100 -> 0
A18: 15 | B18: 鸡肉 | C18: 白条鸡零售价 | D18: 元/500克 | E18: 10.58 | F18: =(E18-'2026.9.9'!E18)/'2026.9.9'!E18*100 -> 0
A19: 16 | B19: 鸡蛋 | C19: 零售价 | D19: 元/500克 | E19: 5.62 | F19: =(E19-'2026.9.9'!E19)/'2026.9.9'!E19*100 -> 1.81
A20: 17 | B20: 大白菜 | C20: 新鲜一级 | D20: 元/500克 | E20: 1.3 | F20: =(E20-'2026.9.9'!E20)/'2026.9.9'!E20*100 -> -3.7
A21: 18 | B21: 土豆 | C21: 新鲜一级 | D21: 元/500克 | E21: 1.18 | F21: =(E21-'2026.9.9'!E21)/'2026.9.9'!E21*100 -> 0
A22: 19 | B22: 西红柿 | C22: 新鲜一级 | D22: 元/500克 | E22: 2.97 | F22: =(E22-'2026.9.9'!E22)/'2026.9.9'!E22*100 -> 4.95
A23: 20 | B23: 黄瓜 | C23: 新鲜一级 | D23: 元/500克 | E23: 3.27 | F23: =(E23-'2026.9.9'!E23)/'2026.9.9'!E23*100 -> 9.36
A24: 21 | B24: 豆角 | C24: 新鲜一级 | D24: 元/500克 | E24: 5.86 | F24: =(E24-'2026.9.9'!E24)/'2026.9.9'!E24*100 -> 0
A25: 22 | B25: 胡萝卜 | C25: 新鲜一级 | D25: 元/500克 | E25: 1.91 | F25: =(E25-'2026.9.9'!E25)/'2026.9.9'!E25*100 -> -4.02
... A36: 33 | B36: 月饼 | C36: 普通 | D36: 元/500g | E36: 7 | F36: =(E36-'2026.9.9'!E36)/'2026.9.9'!E36*100 -> 0

Sheet 2026.9.9
A1: 朔州市重要民生商品价格监测报表
A2: 填报单位：朔州市新兴产业发展促进中心 | F2: 填报日期：2026年9月9日
A3: 序号 | B3: 监测品种 | C3: 规格 | D3: 单位 | E3: 本期价格 | F3: 环比（%） | G3: 备注
A4: 1 | B4: 面粉 | C4: 特一 | D4: 元/500克 | E4: 2.63
A5: 2 | B5: 粳米 | C5: 二级 | D5: 元/500克 | E5: 2.78
A6: 3 | B6: 食盐 | C6: 精制含碘盐 | D6: 元/500克 | E6: 2.5
A7: 4 | B7: 白砂糖 | C7: 袋装 | D7: 元/500克 | E7: 6.82
A8: 5 | B8: 牛奶 | C8: 纯牛奶盒装250ml | D8: 元/盒 | E8: 3.44
A9: 6 | B9: 花生油 | C9: 一级桶装 | D9: 元/5升 | E9: 163.78
A10: 7 | B10: 大豆油 | C10: 桶装一级浸出 | D10: 元/5升 | E10: 73.6
A11: 8 | B11: 生猪 | C11: 养殖场出厂价 | D11: 元/500克 | E11: 6.1
A12: 9 | B12: 玉米 | C12: 批发市场成交价 | D12: 元/500克 | E12: 1.13
A13: 10 | B13: 猪粮比价 | E13: 5.42
A14: 11 | B14: 猪肉 | C14: 精瘦肉零售价 | D14: 元/500克 | E14: 11.25
A15: 12 | B15: 猪肉 | C15: 肋条肉零售价 | D15: 元/500克 | E15: 10.63
A16: 13 | B16: 牛肉 | C16: 腱子肉零售价 | D16: 元/500克 | E16: 34.67
A17: 14 | B17: 羊肉 | C17: 新鲜去骨零售价 | D17: 元/500克 | E17: 32.83
A18: 15 | B18: 鸡肉 | C18: 白条鸡零售价 | D18: 元/500克 | E18: 10.58
A19: 16 | B19: 鸡蛋 | C19: 零售价 | D19: 元/500克 | E19: 5.52
A20: 17 | B20: 大白菜 | C20: 新鲜一级 | D20: 元/500克 | E20: 1.35
A21: 18 | B21: 土豆 | C21: 新鲜一级 | D21: 元/500克 | E21: 1.18
A22: 19 | B22: 西红柿 | C22: 新鲜一级 | D22: 元/500克 | E22: 2.83
A23: 20 | B23: 黄瓜 | C23: 新鲜一级 | D23: 元/500克 | E23: 2.99
A24: 21 | B24: 豆角 | C24: 新鲜一级 | D24: 元/500克 | E24: 5.86
A25: 22 | B25: 胡萝卜 | C25: 新鲜一级 | D25: 元/500克 | E25: 1.99
... A36: 33 | B36: 月饼 | C36: 普通 | D36: 元/500g | E36: 7
